BEGIN:VCALENDAR
VERSION:2.0
PRODID:-//SVP Rothrist //NONSGML Events //EN
CALSCALE:GREGORIAN
X-WR-CALNAME:SVP Rothrist
BEGIN:VEVENT
CREATED:20251206T212356Z
UID:769
DTEND:20260611T220000
DTSTART:20260611T200000
DTSTAMP:20260420T144746Z
LOCATION:Gemeindesaal Breiten
DESCRIPTION:
SUMMARY:Einwohnergemeindeversammlung
ORGANIZER:
URL;VALUE=URI:https://www.svp-rothrist.ch/termine/einwohnergemeindeversammlung/
TRANSP:OPAQUE
END:VEVENT
END:VCALENDAR
