BEGIN:VCALENDAR
VERSION:2.0
PRODID:-//SVP Rothrist //NONSGML Events //EN
CALSCALE:GREGORIAN
X-WR-CALNAME:SVP Rothrist
BEGIN:VEVENT
CREATED:20251206T215853Z
UID:777
DTEND:20260612T210000
DTSTART:20260612T200000
DTSTAMP:20260420T144746Z
LOCATION:Waldhaus Haldenweg
DESCRIPTION:
SUMMARY:Ortsbürgergemeindeversammlung
ORGANIZER:
URL;VALUE=URI:https://www.svp-rothrist.ch/termine/ortsbuergergemeindeversammlung/
TRANSP:OPAQUE
END:VEVENT
END:VCALENDAR
