BEGIN:VCALENDAR
VERSION:2.0
PRODID:-//SVP Rothrist //NONSGML Events //EN
CALSCALE:GREGORIAN
X-WR-CALNAME:SVP Rothrist
BEGIN:VEVENT
CREATED:20260227T085914Z
UID:863
DTEND:20260521T200000
DTSTART:20260521T193000
DTSTAMP:20260425T151114Z
LOCATION:
DESCRIPTION:
SUMMARY:Parteiversammlung
ORGANIZER:
URL;VALUE=URI:https://www.svp-rothrist.ch/termine/parteiversammlung-2/
TRANSP:OPAQUE
END:VEVENT
END:VCALENDAR
